BEGIN:VCALENDAR
VERSION:2.0
PRODID:-//GIS - ECPv6.15.15//NONSGML v1.0//EN
CALSCALE:GREGORIAN
METHOD:PUBLISH
X-WR-CALNAME:GIS
X-ORIGINAL-URL:https://gis.edu.gh
X-WR-CALDESC:Events for GIS
REFRESH-INTERVAL;VALUE=DURATION:PT1H
X-Robots-Tag:noindex
X-PUBLISHED-TTL:PT1H
BEGIN:VTIMEZONE
TZID:UTC
BEGIN:STANDARD
TZOFFSETFROM:+0000
TZOFFSETTO:+0000
TZNAME:UTC
DTSTART:20230101T000000
END:STANDARD
END:VTIMEZONE
BEGIN:VEVENT
DTSTART;VALUE=DATE:20241206
DTEND;VALUE=DATE:20241207
DTSTAMP:20260425T130105
CREATED:20240820T104752Z
LAST-MODIFIED:20240820T104752Z
UID:987494092-1733443200-1733529599@gis.edu.gh
SUMMARY:Farmers Day (Public Holiday)
DESCRIPTION:
URL:https://gis.edu.gh/event/farmers-day-public-holiday-2/
CATEGORIES:Main Page
END:VEVENT
BEGIN:VEVENT
DTSTART;TZID=UTC:20241205T080000
DTEND;TZID=UTC:20241205T170000
DTSTAMP:20260425T130105
CREATED:20240910T084833Z
LAST-MODIFIED:20240910T084833Z
UID:987494298-1733385600-1733418000@gis.edu.gh
SUMMARY:Last Day of Examinations (Forms 1 to U6)
DESCRIPTION:
URL:https://gis.edu.gh/event/last-day-of-examinations-forms-1-to-u6/
CATEGORIES:Lower Secondary School,Senior Secondary,Upper Secondary School
END:VEVENT
BEGIN:VEVENT
DTSTART;TZID=UTC:20241205T080000
DTEND;TZID=UTC:20241205T170000
DTSTAMP:20260425T130105
CREATED:20240910T075047Z
LAST-MODIFIED:20240910T075047Z
UID:987494230-1733385600-1733418000@gis.edu.gh
SUMMARY:Achievement Awards for Nov./Dec.
DESCRIPTION:
URL:https://gis.edu.gh/event/achievement-awards-for-nov-dec-3/
CATEGORIES:Junior School
END:VEVENT
BEGIN:VEVENT
DTSTART;TZID=UTC:20241129T080000
DTEND;TZID=UTC:20241129T170000
DTSTAMP:20260425T130105
CREATED:20240910T084801Z
LAST-MODIFIED:20240910T084801Z
UID:987494296-1732867200-1732899600@gis.edu.gh
SUMMARY:Start of Examinations (Forms 1 to 3)
DESCRIPTION:
URL:https://gis.edu.gh/event/start-of-examinations-forms-1-to-3/
CATEGORIES:Lower Secondary School
END:VEVENT
BEGIN:VEVENT
DTSTART;TZID=UTC:20241129T080000
DTEND;TZID=UTC:20241129T170000
DTSTAMP:20260425T130105
CREATED:20240910T075018Z
LAST-MODIFIED:20240910T075018Z
UID:987494228-1732867200-1732899600@gis.edu.gh
SUMMARY:SRC Plain Clothes Day
DESCRIPTION:
URL:https://gis.edu.gh/event/src-plain-clothes-day/
CATEGORIES:Junior School
END:VEVENT
BEGIN:VEVENT
DTSTART;TZID=UTC:20241129T080000
DTEND;TZID=UTC:20241129T170000
DTSTAMP:20260425T130105
CREATED:20240910T074945Z
LAST-MODIFIED:20240910T074945Z
UID:987494226-1732867200-1732899600@gis.edu.gh
SUMMARY:Coffee Rendez-vous
DESCRIPTION:
URL:https://gis.edu.gh/event/coffee-rendez-vous/
CATEGORIES:Junior School
END:VEVENT
BEGIN:VEVENT
DTSTART;TZID=UTC:20241125T080000
DTEND;TZID=UTC:20241128T170000
DTSTAMP:20260425T130105
CREATED:20240910T074914Z
LAST-MODIFIED:20240910T074914Z
UID:987494224-1732521600-1732813200@gis.edu.gh
SUMMARY:Exam Feedback Week
DESCRIPTION:
URL:https://gis.edu.gh/event/exam-feedback-week/
CATEGORIES:Junior School
END:VEVENT
BEGIN:VEVENT
DTSTART;TZID=UTC:20241118T080000
DTEND;TZID=UTC:20241118T170000
DTSTAMP:20260425T130105
CREATED:20240910T084733Z
LAST-MODIFIED:20240910T084733Z
UID:987494294-1731916800-1731949200@gis.edu.gh
SUMMARY:Start of Examinations (Forms 4 to U6)
DESCRIPTION:
URL:https://gis.edu.gh/event/start-of-examinations-forms-4-to-u6/
CATEGORIES:Upper Secondary School
END:VEVENT
BEGIN:VEVENT
DTSTART;TZID=UTC:20241116T080000
DTEND;TZID=UTC:20241116T170000
DTSTAMP:20260425T130105
CREATED:20240910T084557Z
LAST-MODIFIED:20240910T084634Z
UID:987494292-1731744000-1731776400@gis.edu.gh
SUMMARY:ISSAG Volleyball\, Swimming and Table Tennis
DESCRIPTION:
URL:https://gis.edu.gh/event/issag-volleyball-swimming-and-table-tennis/
CATEGORIES:Lower Secondary School,Senior Secondary,Upper Secondary School
END:VEVENT
BEGIN:VEVENT
DTSTART;TZID=UTC:20241115T080000
DTEND;TZID=UTC:20241122T170000
DTSTAMP:20260425T130105
CREATED:20240910T074835Z
LAST-MODIFIED:20240910T074835Z
UID:987494222-1731657600-1732294800@gis.edu.gh
SUMMARY:Exam Week
DESCRIPTION:
URL:https://gis.edu.gh/event/exam-week-2/
CATEGORIES:Junior School
END:VEVENT
BEGIN:VEVENT
DTSTART;TZID=UTC:20241114T153000
DTEND;TZID=UTC:20241114T170000
DTSTAMP:20260425T130105
CREATED:20240910T084351Z
LAST-MODIFIED:20240910T084351Z
UID:987494290-1731598200-1731603600@gis.edu.gh
SUMMARY:Parent Teacher Conferences Forms 4 to U6
DESCRIPTION:
URL:https://gis.edu.gh/event/parent-teacher-conferences-forms-4-to-u6/
CATEGORIES:Upper Secondary School
END:VEVENT
BEGIN:VEVENT
DTSTART;TZID=UTC:20241111T080000
DTEND;TZID=UTC:20241115T170000
DTSTAMP:20260425T130105
CREATED:20240910T083414Z
LAST-MODIFIED:20240910T083414Z
UID:987494286-1731312000-1731690000@gis.edu.gh
SUMMARY:Have-a Heart Week
DESCRIPTION:
URL:https://gis.edu.gh/event/have-a-heart-week-2/
CATEGORIES:Lower Secondary School,Senior Secondary,Upper Secondary School
END:VEVENT
BEGIN:VEVENT
DTSTART;TZID=UTC:20241109T080000
DTEND;TZID=UTC:20241109T170000
DTSTAMP:20260425T130105
CREATED:20240910T083328Z
LAST-MODIFIED:20240910T083328Z
UID:987494284-1731139200-1731171600@gis.edu.gh
SUMMARY:PTA Sponsored Walk
DESCRIPTION:
URL:https://gis.edu.gh/event/pta-sponsored-walk-5/
CATEGORIES:Lower Secondary School
END:VEVENT
BEGIN:VEVENT
DTSTART;TZID=UTC:20241109T080000
DTEND;TZID=UTC:20241109T170000
DTSTAMP:20260425T130105
CREATED:20240910T074753Z
LAST-MODIFIED:20240910T074753Z
UID:987494220-1731139200-1731171600@gis.edu.gh
SUMMARY:PTA Sponsored Walk (TBC)
DESCRIPTION:
URL:https://gis.edu.gh/event/pta-sponsored-walk-tbc/
CATEGORIES:Junior School
END:VEVENT
BEGIN:VEVENT
DTSTART;TZID=UTC:20241109T080000
DTEND;TZID=UTC:20241109T170000
DTSTAMP:20260425T130105
CREATED:20240910T072622Z
LAST-MODIFIED:20240910T072622Z
UID:987494171-1731139200-1731171600@gis.edu.gh
SUMMARY:PTA SPONSORED WALK
DESCRIPTION:
URL:https://gis.edu.gh/event/pta-sponsored-walk-4/
CATEGORIES:Infant School
END:VEVENT
BEGIN:VEVENT
DTSTART;VALUE=DATE:20241109
DTEND;VALUE=DATE:20241110
DTSTAMP:20260425T130105
CREATED:20240820T104704Z
LAST-MODIFIED:20240820T104704Z
UID:987494090-1731110400-1731196799@gis.edu.gh
SUMMARY:PTA Sponsored Walk
DESCRIPTION:
URL:https://gis.edu.gh/event/pta-sponsored-walk-3/
CATEGORIES:Main Page
END:VEVENT
BEGIN:VEVENT
DTSTART;TZID=UTC:20241108T080000
DTEND;TZID=UTC:20241108T170000
DTSTAMP:20260425T130105
CREATED:20240910T072550Z
LAST-MODIFIED:20240910T072550Z
UID:987494169-1731052800-1731085200@gis.edu.gh
SUMMARY:INFANT SCHOOL WALKATHON
DESCRIPTION:
URL:https://gis.edu.gh/event/infant-school-walkathon/
CATEGORIES:Infant School
END:VEVENT
BEGIN:VEVENT
DTSTART;TZID=UTC:20241107T080000
DTEND;TZID=UTC:20241107T170000
DTSTAMP:20260425T130105
CREATED:20240910T074727Z
LAST-MODIFIED:20240910T074727Z
UID:987494218-1730966400-1730998800@gis.edu.gh
SUMMARY:Talent Showcase
DESCRIPTION:
URL:https://gis.edu.gh/event/talent-showcase/
CATEGORIES:Junior School
END:VEVENT
BEGIN:VEVENT
DTSTART;TZID=UTC:20241107T080000
DTEND;TZID=UTC:20241107T170000
DTSTAMP:20260425T130105
CREATED:20240910T072510Z
LAST-MODIFIED:20240910T072510Z
UID:987494167-1730966400-1730998800@gis.edu.gh
SUMMARY:Year 2 Enrichment Morning
DESCRIPTION:
URL:https://gis.edu.gh/event/year-2-enrichment-morning/
CATEGORIES:Infant School
END:VEVENT
BEGIN:VEVENT
DTSTART;TZID=UTC:20241106T080000
DTEND;TZID=UTC:20241106T170000
DTSTAMP:20260425T130105
CREATED:20240910T074704Z
LAST-MODIFIED:20240910T074704Z
UID:987494216-1730880000-1730912400@gis.edu.gh
SUMMARY:Year 3 Stone Age Activity Day
DESCRIPTION:
URL:https://gis.edu.gh/event/year-3-stone-age-activity-day/
CATEGORIES:Junior School
END:VEVENT
BEGIN:VEVENT
DTSTART;TZID=UTC:20241105T153000
DTEND;TZID=UTC:20241105T170000
DTSTAMP:20260425T130105
CREATED:20240910T083247Z
LAST-MODIFIED:20240910T083247Z
UID:987494282-1730820600-1730826000@gis.edu.gh
SUMMARY:Lower Secondary Parent-Teacher Conference (Form 2X & 2Y and 3X & 3Y Parents)
DESCRIPTION:
URL:https://gis.edu.gh/event/lower-secondary-parent-teacher-conference-form-2x-2y-and-3x-3y-parents/
CATEGORIES:Lower Secondary School
END:VEVENT
BEGIN:VEVENT
DTSTART;TZID=UTC:20241104T153000
DTEND;TZID=UTC:20241104T170000
DTSTAMP:20260425T130105
CREATED:20240910T083043Z
LAST-MODIFIED:20240910T083043Z
UID:987494280-1730734200-1730739600@gis.edu.gh
SUMMARY:Lower Secondary Parent-Teacher Conference (Form 2P & 2Q and 3P & 3Q Parents)
DESCRIPTION:
URL:https://gis.edu.gh/event/lower-secondary-parent-teacher-conference-form-2p-2q-and-3p-3q-parents/
CATEGORIES:Lower Secondary School
END:VEVENT
BEGIN:VEVENT
DTSTART;TZID=UTC:20241104T080000
DTEND;TZID=UTC:20241104T170000
DTSTAMP:20260425T130105
CREATED:20240910T072450Z
LAST-MODIFIED:20240910T072450Z
UID:987494165-1730707200-1730739600@gis.edu.gh
SUMMARY:Nursery Enrichment Morning
DESCRIPTION:
URL:https://gis.edu.gh/event/nursery-enrichment-morning/
CATEGORIES:Infant School
END:VEVENT
BEGIN:VEVENT
DTSTART;TZID=UTC:20241102T080000
DTEND;TZID=UTC:20241102T170000
DTSTAMP:20260425T130105
CREATED:20240910T082921Z
LAST-MODIFIED:20240910T082921Z
UID:987494278-1730534400-1730566800@gis.edu.gh
SUMMARY:Form 2 Leadership Day
DESCRIPTION:
URL:https://gis.edu.gh/event/form-2-leadership-day/
CATEGORIES:Lower Secondary School
END:VEVENT
BEGIN:VEVENT
DTSTART;TZID=UTC:20241101T080000
DTEND;TZID=UTC:20241101T170000
DTSTAMP:20260425T130105
CREATED:20240910T072430Z
LAST-MODIFIED:20240910T072430Z
UID:987494163-1730448000-1730480400@gis.edu.gh
SUMMARY:Reception Enrichment Morning
DESCRIPTION:
URL:https://gis.edu.gh/event/reception-enrichment-morning/
CATEGORIES:Infant School
END:VEVENT
BEGIN:VEVENT
DTSTART;TZID=UTC:20241031T080000
DTEND;TZID=UTC:20241031T170000
DTSTAMP:20260425T130105
CREATED:20240910T072408Z
LAST-MODIFIED:20240910T072408Z
UID:987494161-1730361600-1730394000@gis.edu.gh
SUMMARY:Year 1 Enrichment Morning
DESCRIPTION:
URL:https://gis.edu.gh/event/year-1-enrichment-morning/
CATEGORIES:Infant School
END:VEVENT
BEGIN:VEVENT
DTSTART;TZID=UTC:20241030T153000
DTEND;TZID=UTC:20241030T170000
DTSTAMP:20260425T130105
CREATED:20240910T082733Z
LAST-MODIFIED:20240910T082753Z
UID:987494276-1730302200-1730307600@gis.edu.gh
SUMMARY:Lower Secondary Parent-Teacher Conference (Forms 1X & Y)
DESCRIPTION:
URL:https://gis.edu.gh/event/lower-secondary-parent-teacher-conference-forms-1x-y/
CATEGORIES:Lower Secondary School
END:VEVENT
BEGIN:VEVENT
DTSTART;TZID=UTC:20241029T153000
DTEND;TZID=UTC:20241029T170000
DTSTAMP:20260425T130105
CREATED:20240910T082649Z
LAST-MODIFIED:20240910T082852Z
UID:987494274-1730215800-1730221200@gis.edu.gh
SUMMARY:Lower Secondary Parent-Teacher Conference (Forms 1P & Q)
DESCRIPTION:
URL:https://gis.edu.gh/event/lower-secondary-parent-teacher-conference-forms-1p-q/
CATEGORIES:Lower Secondary School
END:VEVENT
BEGIN:VEVENT
DTSTART;TZID=UTC:20241029T080000
DTEND;TZID=UTC:20241029T170000
DTSTAMP:20260425T130105
CREATED:20240910T072343Z
LAST-MODIFIED:20240910T072343Z
UID:987494159-1730188800-1730221200@gis.edu.gh
SUMMARY:ATTRIBUTES EXPERIENTIAL DAY
DESCRIPTION:
URL:https://gis.edu.gh/event/attributes-experiential-day/
CATEGORIES:Infant School
END:VEVENT
BEGIN:VEVENT
DTSTART;TZID=UTC:20241021T080000
DTEND;TZID=UTC:20241025T170000
DTSTAMP:20260425T130105
CREATED:20240910T082546Z
LAST-MODIFIED:20240910T082546Z
UID:987494272-1729497600-1729875600@gis.edu.gh
SUMMARY:Half-Term Holiday
DESCRIPTION:
URL:https://gis.edu.gh/event/half-term-holiday-6/
CATEGORIES:Lower Secondary School,Senior Secondary,Upper Secondary School
END:VEVENT
END:VCALENDAR