BEGIN:VCALENDAR
VERSION:2.0
PRODID:-//GIS - ECPv6.15.15//NONSGML v1.0//EN
CALSCALE:GREGORIAN
METHOD:PUBLISH
X-WR-CALNAME:GIS
X-ORIGINAL-URL:https://gis.edu.gh
X-WR-CALDESC:Events for GIS
REFRESH-INTERVAL;VALUE=DURATION:PT1H
X-Robots-Tag:noindex
X-PUBLISHED-TTL:PT1H
BEGIN:VTIMEZONE
TZID:UTC
BEGIN:STANDARD
TZOFFSETFROM:+0000
TZOFFSETTO:+0000
TZNAME:UTC
DTSTART:20210101T000000
END:STANDARD
END:VTIMEZONE
BEGIN:VTIMEZONE
TZID:Africa/Accra
BEGIN:STANDARD
TZOFFSETFROM:+0000
TZOFFSETTO:+0000
TZNAME:GMT
DTSTART:20210101T000000
END:STANDARD
END:VTIMEZONE
BEGIN:VEVENT
DTSTART;VALUE=DATE:20230109
DTEND;VALUE=DATE:20230110
DTSTAMP:20260425T130010
CREATED:20221101T160826Z
LAST-MODIFIED:20221112T100050Z
UID:987491570-1673222400-1673308799@gis.edu.gh
SUMMARY:Constitution Day (Public Holiday)
DESCRIPTION:
URL:https://gis.edu.gh/event/constitution-day-public-holiday/
CATEGORIES:Main Page
END:VEVENT
BEGIN:VEVENT
DTSTART;TZID=UTC:20230104T080000
DTEND;TZID=UTC:20230104T170000
DTSTAMP:20260425T130010
CREATED:20221110T234834Z
LAST-MODIFIED:20221112T095933Z
UID:987491851-1672819200-1672851600@gis.edu.gh
SUMMARY:Start of Term 2
DESCRIPTION:
URL:https://gis.edu.gh/event/start-of-term-2/
CATEGORIES:Infant School,Junior School,Lower Secondary School,Main Page,Senior Secondary,Upper Secondary School
END:VEVENT
BEGIN:VEVENT
DTSTART;VALUE=DATE:20221214
DTEND;VALUE=DATE:20221215
DTSTAMP:20260425T130010
CREATED:20221110T234721Z
LAST-MODIFIED:20221110T234912Z
UID:987491849-1670976000-1671062399@gis.edu.gh
SUMMARY:End of Term 1 (students)
DESCRIPTION:
URL:https://gis.edu.gh/event/end-of-term-1-students/
CATEGORIES:Infant School,Junior School,Lower Secondary School,Main Page,Senior Secondary,Upper Secondary School
END:VEVENT
BEGIN:VEVENT
DTSTART;VALUE=DATE:20221209
DTEND;VALUE=DATE:20221210
DTSTAMP:20260425T130010
CREATED:20221112T095320Z
LAST-MODIFIED:20221112T095320Z
UID:987492141-1670544000-1670630399@gis.edu.gh
SUMMARY:End of Exams
DESCRIPTION:
URL:https://gis.edu.gh/event/end-of-exams/
CATEGORIES:Lower Secondary School,Senior Secondary,Upper Secondary School
END:VEVENT
BEGIN:VEVENT
DTSTART;TZID=UTC:20221208T140000
DTEND;TZID=UTC:20221208T153000
DTSTAMP:20260425T130010
CREATED:20221112T094146Z
LAST-MODIFIED:20221112T094146Z
UID:987492126-1670508000-1670513400@gis.edu.gh
SUMMARY:Open Day
DESCRIPTION:
URL:https://gis.edu.gh/event/open-day/
CATEGORIES:Infant School
END:VEVENT
BEGIN:VEVENT
DTSTART;TZID=UTC:20221208T080000
DTEND;TZID=UTC:20221208T170000
DTSTAMP:20260425T130010
CREATED:20221112T093727Z
LAST-MODIFIED:20221112T093727Z
UID:987492118-1670486400-1670518800@gis.edu.gh
SUMMARY:Achievement Awards for Nov./Dec
DESCRIPTION:
URL:https://gis.edu.gh/event/achievement-awards-for-nov-dec-2/
CATEGORIES:Junior School
END:VEVENT
BEGIN:VEVENT
DTSTART;TZID=UTC:20221208T080000
DTEND;TZID=UTC:20221208T170000
DTSTAMP:20260425T130010
CREATED:20221112T092638Z
LAST-MODIFIED:20221112T092704Z
UID:987492116-1670486400-1670518800@gis.edu.gh
SUMMARY:Achievement Awards for Nov/Dec
DESCRIPTION:
URL:https://gis.edu.gh/event/achievement-awards-for-nov-dec/
CATEGORIES:Junior School
END:VEVENT
BEGIN:VEVENT
DTSTART;TZID=UTC:20221206T100000
DTEND;TZID=UTC:20221206T123000
DTSTAMP:20260425T130010
CREATED:20221112T094001Z
LAST-MODIFIED:20221112T094001Z
UID:987492123-1670320800-1670329800@gis.edu.gh
SUMMARY:Christmas Party
DESCRIPTION:
URL:https://gis.edu.gh/event/christmas-party/
CATEGORIES:Infant School
END:VEVENT
BEGIN:VEVENT
DTSTART;VALUE=DATE:20221205
DTEND;VALUE=DATE:20221206
DTSTAMP:20260425T130010
CREATED:20221112T095234Z
LAST-MODIFIED:20221112T095234Z
UID:987492139-1670198400-1670284799@gis.edu.gh
SUMMARY:Start of Exams
DESCRIPTION:
URL:https://gis.edu.gh/event/start-of-exams-2/
CATEGORIES:Lower Secondary School
END:VEVENT
BEGIN:VEVENT
DTSTART;VALUE=DATE:20221202
DTEND;VALUE=DATE:20221203
DTSTAMP:20260425T130010
CREATED:20221012T182441Z
LAST-MODIFIED:20221112T100324Z
UID:987491009-1669939200-1670025599@gis.edu.gh
SUMMARY:Farmer's Day
DESCRIPTION:
URL:https://gis.edu.gh/event/farmers-day/
CATEGORIES:Main Page
END:VEVENT
BEGIN:VEVENT
DTSTART;TZID=UTC:20221201T100000
DTEND;TZID=UTC:20221201T110000
DTSTAMP:20260425T130010
CREATED:20221112T093858Z
LAST-MODIFIED:20221112T093858Z
UID:987492120-1669888800-1669892400@gis.edu.gh
SUMMARY:Christmas Sing-along
DESCRIPTION:
URL:https://gis.edu.gh/event/christmas-sing-along/
LOCATION:Infant Assembly Hall
CATEGORIES:Infant School
END:VEVENT
BEGIN:VEVENT
DTSTART;VALUE=DATE:20221125
DTEND;VALUE=DATE:20221126
DTSTAMP:20260425T130010
CREATED:20221112T095124Z
LAST-MODIFIED:20221112T095124Z
UID:987492137-1669334400-1669420799@gis.edu.gh
SUMMARY:Start of Exams
DESCRIPTION:
URL:https://gis.edu.gh/event/start-of-exams/
CATEGORIES:Senior Secondary,Upper Secondary School
END:VEVENT
BEGIN:VEVENT
DTSTART;TZID=UTC:20221118T080000
DTEND;TZID=UTC:20221125T170000
DTSTAMP:20260425T130010
CREATED:20221112T092532Z
LAST-MODIFIED:20221112T092532Z
UID:987492114-1668758400-1669395600@gis.edu.gh
SUMMARY:Exam Week
DESCRIPTION:
URL:https://gis.edu.gh/event/exam-week/
CATEGORIES:Junior School
END:VEVENT
BEGIN:VEVENT
DTSTART;VALUE=DATE:20221118
DTEND;VALUE=DATE:20221119
DTSTAMP:20260425T130010
CREATED:20221112T095012Z
LAST-MODIFIED:20221112T095012Z
UID:987492135-1668729600-1668815999@gis.edu.gh
SUMMARY:Pastoral Care Meeting
DESCRIPTION:
URL:https://gis.edu.gh/event/pastoral-care-meeting/
CATEGORIES:Lower Secondary School,Senior Secondary,Upper Secondary School
END:VEVENT
BEGIN:VEVENT
DTSTART;TZID=UTC:20221115T153000
DTEND;TZID=UTC:20221116T180000
DTSTAMP:20260425T130010
CREATED:20221112T094545Z
LAST-MODIFIED:20221112T094556Z
UID:987492130-1668526200-1668621600@gis.edu.gh
SUMMARY:Lower Secondary Parent-Teacher Conference
DESCRIPTION:
URL:https://gis.edu.gh/event/lower-secondary-parent-teacher-conference/
CATEGORIES:Lower Secondary School
END:VEVENT
BEGIN:VEVENT
DTSTART;VALUE=DATE:20221114
DTEND;VALUE=DATE:20221119
DTSTAMP:20260425T130010
CREATED:20221112T094420Z
LAST-MODIFIED:20221112T094420Z
UID:987492128-1668384000-1668815999@gis.edu.gh
SUMMARY:Have-a-Heart Week
DESCRIPTION:
URL:https://gis.edu.gh/event/have-a-heart-week/
CATEGORIES:Lower Secondary School,Upper Secondary School
END:VEVENT
BEGIN:VEVENT
DTSTART;TZID=UTC:20221112T153000
DTEND;TZID=UTC:20221112T170000
DTSTAMP:20260425T130010
CREATED:20221112T094916Z
LAST-MODIFIED:20221112T094916Z
UID:987492132-1668267000-1668272400@gis.edu.gh
SUMMARY:Special Forum for Parents & Teachers
DESCRIPTION:
URL:https://gis.edu.gh/event/special-forum-for-parents-teachers/
LOCATION:Upper Secondary Block
CATEGORIES:Upper Secondary School
END:VEVENT
BEGIN:VEVENT
DTSTART;VALUE=DATE:20221105
DTEND;VALUE=DATE:20221106
DTSTAMP:20260425T130010
CREATED:20220926T143345Z
LAST-MODIFIED:20221101T161356Z
UID:987490969-1667606400-1667692799@gis.edu.gh
SUMMARY:PTA Sponsored Walk
DESCRIPTION:
URL:https://gis.edu.gh/event/pta-sponsored-walk/
END:VEVENT
BEGIN:VEVENT
DTSTART;VALUE=DATE:20221024
DTEND;VALUE=DATE:20221029
DTSTAMP:20260425T130010
CREATED:20220926T151502Z
LAST-MODIFIED:20220926T151835Z
UID:987490975-1666569600-1667001599@gis.edu.gh
SUMMARY:Half-Term Holiday
DESCRIPTION:
URL:https://gis.edu.gh/event/half-term-holiday/
END:VEVENT
BEGIN:VEVENT
DTSTART;VALUE=DATE:20221021
DTEND;VALUE=DATE:20221022
DTSTAMP:20260425T130010
CREATED:20220926T151157Z
LAST-MODIFIED:20220926T151157Z
UID:987490973-1666310400-1666396799@gis.edu.gh
SUMMARY:UN Day Celebration Durbar
DESCRIPTION:
URL:https://gis.edu.gh/event/un-day-celebration-durbar/
END:VEVENT
BEGIN:VEVENT
DTSTART;VALUE=DATE:20220921
DTEND;VALUE=DATE:20220922
DTSTAMP:20260425T130010
CREATED:20220926T140556Z
LAST-MODIFIED:20221026T103948Z
UID:987490964-1663718400-1663804799@gis.edu.gh
SUMMARY:Kwame Nkrumah Memorial
DESCRIPTION:
URL:https://gis.edu.gh/event/kwame-nkrumah-memorial-2/
CATEGORIES:National Holiday
END:VEVENT
END:VCALENDAR