BEGIN:VCALENDAR
VERSION:2.0
PRODID:-//GIS - ECPv6.15.15//NONSGML v1.0//EN
CALSCALE:GREGORIAN
METHOD:PUBLISH
X-WR-CALNAME:GIS
X-ORIGINAL-URL:https://gis.edu.gh
X-WR-CALDESC:Events for GIS
REFRESH-INTERVAL;VALUE=DURATION:PT1H
X-Robots-Tag:noindex
X-PUBLISHED-TTL:PT1H
BEGIN:VTIMEZONE
TZID:UTC
BEGIN:STANDARD
TZOFFSETFROM:+0000
TZOFFSETTO:+0000
TZNAME:UTC
DTSTART:20220101T000000
END:STANDARD
END:VTIMEZONE
BEGIN:VEVENT
DTSTART;TZID=UTC:20240917T143000
DTEND;TZID=UTC:20240917T170000
DTSTAMP:20260425T160837
CREATED:20240910T073954Z
LAST-MODIFIED:20240910T073954Z
UID:987494199-1726583400-1726592400@gis.edu.gh
SUMMARY:After School Activities
DESCRIPTION:
URL:https://gis.edu.gh/event/after-school-activities/
CATEGORIES:Junior School
END:VEVENT
BEGIN:VEVENT
DTSTART;TZID=UTC:20240913T080000
DTEND;TZID=UTC:20240913T170000
DTSTAMP:20260425T160837
CREATED:20240910T073827Z
LAST-MODIFIED:20240910T073827Z
UID:987494195-1726214400-1726246800@gis.edu.gh
SUMMARY:Co-curricular Starts
DESCRIPTION:
URL:https://gis.edu.gh/event/co-curricular-starts/
CATEGORIES:Junior School
END:VEVENT
BEGIN:VEVENT
DTSTART;TZID=UTC:20240912T074500
DTEND;TZID=UTC:20240912T080000
DTSTAMP:20260425T160837
CREATED:20240910T073750Z
LAST-MODIFIED:20240910T073750Z
UID:987494193-1726127100-1726128000@gis.edu.gh
SUMMARY:Welcome Assembly
DESCRIPTION:
URL:https://gis.edu.gh/event/welcome-assembly/
CATEGORIES:Junior School
END:VEVENT
BEGIN:VEVENT
DTSTART;TZID=UTC:20240910T080000
DTEND;TZID=UTC:20240911T170000
DTSTAMP:20260425T160837
CREATED:20240910T073648Z
LAST-MODIFIED:20240910T073648Z
UID:987494190-1725955200-1726074000@gis.edu.gh
SUMMARY:Diagnostic Tests for all classes
DESCRIPTION:
URL:https://gis.edu.gh/event/diagnostic-tests-for-all-classes/
CATEGORIES:Junior School
END:VEVENT
BEGIN:VEVENT
DTSTART;TZID=UTC:20240909T080000
DTEND;TZID=UTC:20240909T170000
DTSTAMP:20260425T160837
CREATED:20240820T103932Z
LAST-MODIFIED:20240820T105015Z
UID:987494079-1725868800-1725901200@gis.edu.gh
SUMMARY:Term 1 Begins
DESCRIPTION:
URL:https://gis.edu.gh/event/school-resumes/
CATEGORIES:Main Page
END:VEVENT
BEGIN:VEVENT
DTSTART;TZID=UTC:20240909T073000
DTEND;TZID=UTC:20240909T170000
DTSTAMP:20260425T160837
CREATED:20240910T073529Z
LAST-MODIFIED:20240910T073529Z
UID:987494188-1725867000-1725901200@gis.edu.gh
SUMMARY:Term Begins- First Day of Classes
DESCRIPTION:
URL:https://gis.edu.gh/event/term-begins-first-day-of-classes/
CATEGORIES:Junior School
END:VEVENT
BEGIN:VEVENT
DTSTART;TZID=UTC:20240626T140000
DTEND;TZID=UTC:20240626T170000
DTSTAMP:20260425T160837
CREATED:20240620T110513Z
LAST-MODIFIED:20240620T110553Z
UID:987494046-1719410400-1719421200@gis.edu.gh
SUMMARY:Secondary School Speech\, Prize-Giving & Graduation Day
DESCRIPTION:
URL:https://gis.edu.gh/event/secondary-school-speech-prize-giving-graduation-day/
CATEGORIES:Lower Secondary School,Main Page,Upper Secondary School
ATTACH;FMTTYPE=image/png:https://gis.edu.gh/wp-content/uploads/2024/06/image-4.png
END:VEVENT
BEGIN:VEVENT
DTSTART;VALUE=DATE:20240406
DTEND;VALUE=DATE:20240407
DTSTAMP:20260425T160837
CREATED:20240104T102050Z
LAST-MODIFIED:20240307T111311Z
UID:987493638-1712361600-1712447999@gis.edu.gh
SUMMARY:Carnifest (Yearbook Fundraiser)
DESCRIPTION:
URL:https://gis.edu.gh/event/carnifest-yearbook-fundraiser/
CATEGORIES:Main Page
END:VEVENT
BEGIN:VEVENT
DTSTART;TZID=UTC:20240328T080000
DTEND;TZID=UTC:20240328T080000
DTSTAMP:20260425T160837
CREATED:20240307T091459Z
LAST-MODIFIED:20240307T091523Z
UID:987493793-1711612800-1711612800@gis.edu.gh
SUMMARY:End of Term 2
DESCRIPTION:
URL:https://gis.edu.gh/event/end-of-term-2/
CATEGORIES:Main Page
END:VEVENT
BEGIN:VEVENT
DTSTART;VALUE=DATE:20240327
DTEND;VALUE=DATE:20240328
DTSTAMP:20260425T160837
CREATED:20240104T102532Z
LAST-MODIFIED:20240104T102532Z
UID:987493646-1711497600-1711583999@gis.edu.gh
SUMMARY:Kwame Pianim Debate
DESCRIPTION:
URL:https://gis.edu.gh/event/kwame-pianim-debate/
CATEGORIES:Main Page
END:VEVENT
BEGIN:VEVENT
DTSTART;VALUE=DATE:20240323
DTEND;VALUE=DATE:20240324
DTSTAMP:20260425T160837
CREATED:20240209T090305Z
LAST-MODIFIED:20240325T094519Z
UID:987493703-1711152000-1711238399@gis.edu.gh
SUMMARY:PTA Bazaar
DESCRIPTION:
URL:https://gis.edu.gh/event/pta-bazaar-2/
ATTACH;FMTTYPE=image/jpeg:https://gis.edu.gh/wp-content/uploads/2024/02/IMG-20240216-WA0000.jpg
END:VEVENT
BEGIN:VEVENT
DTSTART;TZID=UTC:20240320T160000
DTEND;TZID=UTC:20240320T160000
DTSTAMP:20260425T160837
CREATED:20240301T134338Z
LAST-MODIFIED:20240322T101924Z
UID:987493780-1710950400-1710950400@gis.edu.gh
SUMMARY:Stage Musical (Day 2)
DESCRIPTION:
URL:https://gis.edu.gh/event/stage-musical-day-2/
ATTACH;FMTTYPE=image/jpeg:https://gis.edu.gh/wp-content/uploads/2024/03/PHOTO-2024-03-13-09-17-57.jpg
END:VEVENT
BEGIN:VEVENT
DTSTART;VALUE=DATE:20240306
DTEND;VALUE=DATE:20240307
DTSTAMP:20260425T160837
CREATED:20240104T102348Z
LAST-MODIFIED:20240307T085316Z
UID:987493642-1709683200-1709769599@gis.edu.gh
SUMMARY:Independence Day (Public Holiday)
DESCRIPTION:
URL:https://gis.edu.gh/event/independence-day-public-holiday/
ATTACH;FMTTYPE=image/png:https://gis.edu.gh/wp-content/uploads/2024/01/image.png
END:VEVENT
BEGIN:VEVENT
DTSTART;TZID=UTC:20240226T080000
DTEND;TZID=UTC:20240301T170000
DTSTAMP:20260425T160837
CREATED:20240104T102241Z
LAST-MODIFIED:20240304T082502Z
UID:987493640-1708934400-1709312400@gis.edu.gh
SUMMARY:STEAM Fair
DESCRIPTION:
URL:https://gis.edu.gh/event/steam-fair/
END:VEVENT
BEGIN:VEVENT
DTSTART;TZID=UTC:20240215T080000
DTEND;TZID=UTC:20240219T170000
DTSTAMP:20260425T160837
CREATED:20240104T101954Z
LAST-MODIFIED:20240104T101954Z
UID:987493636-1707984000-1708362000@gis.edu.gh
SUMMARY:Half-Term Holiday
DESCRIPTION:
URL:https://gis.edu.gh/event/half-term-holiday-4/
CATEGORIES:Main Page
END:VEVENT
BEGIN:VEVENT
DTSTART;VALUE=DATE:20240215
DTEND;VALUE=DATE:20240216
DTSTAMP:20260425T160837
CREATED:20240104T101722Z
LAST-MODIFIED:20240104T101722Z
UID:987493634-1707955200-1708041599@gis.edu.gh
SUMMARY:Staff Professional Development Day
DESCRIPTION:
URL:https://gis.edu.gh/event/staff-professional-development-day-2/
CATEGORIES:Main Page
END:VEVENT
BEGIN:VEVENT
DTSTART;VALUE=DATE:20240109
DTEND;VALUE=DATE:20240110
DTSTAMP:20260425T160837
CREATED:20240104T101101Z
LAST-MODIFIED:20240104T101557Z
UID:987493629-1704758400-1704844799@gis.edu.gh
SUMMARY:School Reopens
DESCRIPTION:
URL:https://gis.edu.gh/event/school-reopens-2/
CATEGORIES:Main Page
END:VEVENT
BEGIN:VEVENT
DTSTART;VALUE=DATE:20231213
DTEND;VALUE=DATE:20231214
DTSTAMP:20260425T160837
CREATED:20230807T125224Z
LAST-MODIFIED:20230807T125224Z
UID:987493364-1702425600-1702511999@gis.edu.gh
SUMMARY:School Vacates
DESCRIPTION:
URL:https://gis.edu.gh/event/school-vacates/
CATEGORIES:Main Page
END:VEVENT
BEGIN:VEVENT
DTSTART;VALUE=DATE:20231201
DTEND;VALUE=DATE:20231202
DTSTAMP:20260425T160837
CREATED:20230807T125000Z
LAST-MODIFIED:20230807T125000Z
UID:987493362-1701388800-1701475199@gis.edu.gh
SUMMARY:Farmers Day (Public Holiday)
DESCRIPTION:
URL:https://gis.edu.gh/event/farmers-day-public-holiday/
CATEGORIES:Main Page
END:VEVENT
BEGIN:VEVENT
DTSTART;VALUE=DATE:20231104
DTEND;VALUE=DATE:20231105
DTSTAMP:20260425T160837
CREATED:20230807T124534Z
LAST-MODIFIED:20231005T100802Z
UID:987493356-1699056000-1699142399@gis.edu.gh
SUMMARY:PTA Sponsored Walk
DESCRIPTION:
URL:https://gis.edu.gh/event/pta-sponsored-walk-2/
CATEGORIES:Main Page
END:VEVENT
BEGIN:VEVENT
DTSTART;TZID=UTC:20231023T080000
DTEND;TZID=UTC:20231027T170000
DTSTAMP:20260425T160837
CREATED:20230807T124824Z
LAST-MODIFIED:20230807T124824Z
UID:987493360-1698048000-1698426000@gis.edu.gh
SUMMARY:Half-Term Holiday
DESCRIPTION:
URL:https://gis.edu.gh/event/half-term-holiday-3/
CATEGORIES:Main Page
END:VEVENT
BEGIN:VEVENT
DTSTART;TZID=UTC:20231020T080000
DTEND;TZID=UTC:20231020T170000
DTSTAMP:20260425T160837
CREATED:20230807T124649Z
LAST-MODIFIED:20230807T124649Z
UID:987493358-1697788800-1697821200@gis.edu.gh
SUMMARY:UN Day Celebration Durbar
DESCRIPTION:
URL:https://gis.edu.gh/event/un-day-celebration-durbar-2/
CATEGORIES:Main Page
END:VEVENT
BEGIN:VEVENT
DTSTART;TZID=UTC:20230930T080000
DTEND;TZID=UTC:20230930T170000
DTSTAMP:20260425T160837
CREATED:20230807T124353Z
LAST-MODIFIED:20230807T124353Z
UID:987493354-1696060800-1696093200@gis.edu.gh
SUMMARY:TIME Conference
DESCRIPTION:
URL:https://gis.edu.gh/event/time-conference/
CATEGORIES:Main Page
END:VEVENT
BEGIN:VEVENT
DTSTART;TZID=UTC:20230921T080000
DTEND;TZID=UTC:20230921T170000
DTSTAMP:20260425T160837
CREATED:20230807T124228Z
LAST-MODIFIED:20230807T124228Z
UID:987493352-1695283200-1695315600@gis.edu.gh
SUMMARY:Kwame Nkrumah Memorial Day (Public Holiday)
DESCRIPTION:
URL:https://gis.edu.gh/event/kwame-nkrumah-memorial-day-public-holiday/
CATEGORIES:Main Page,National Holiday
END:VEVENT
BEGIN:VEVENT
DTSTART;VALUE=DATE:20230904
DTEND;VALUE=DATE:20230905
DTSTAMP:20260425T160837
CREATED:20230807T123910Z
LAST-MODIFIED:20230807T123910Z
UID:987493350-1693785600-1693871999@gis.edu.gh
SUMMARY:School Reopens
DESCRIPTION:
URL:https://gis.edu.gh/event/school-reopens/
CATEGORIES:Main Page
END:VEVENT
BEGIN:VEVENT
DTSTART;TZID=UTC:20230306T080000
DTEND;TZID=UTC:20230306T170000
DTSTAMP:20260425T160837
CREATED:20221101T162022Z
LAST-MODIFIED:20221112T095952Z
UID:987491581-1678089600-1678122000@gis.edu.gh
SUMMARY:Independence Day
DESCRIPTION:
URL:https://gis.edu.gh/event/independence-day/
CATEGORIES:Main Page
END:VEVENT
BEGIN:VEVENT
DTSTART;TZID=UTC:20230227T080000
DTEND;TZID=UTC:20230303T170000
DTSTAMP:20260425T160837
CREATED:20221101T161502Z
LAST-MODIFIED:20221112T100000Z
UID:987491579-1677484800-1677862800@gis.edu.gh
SUMMARY:TIPS / STEAM Week &  Fair 2023
DESCRIPTION:
URL:https://gis.edu.gh/event/tips-steam-week-fair-2023/
CATEGORIES:Main Page
END:VEVENT
BEGIN:VEVENT
DTSTART;TZID=UTC:20230216T080000
DTEND;TZID=UTC:20230216T170000
DTSTAMP:20260425T160837
CREATED:20221101T161206Z
LAST-MODIFIED:20221101T161206Z
UID:987491576-1676534400-1676566800@gis.edu.gh
SUMMARY:Staff Professional Development Day
DESCRIPTION:
URL:https://gis.edu.gh/event/staff-professional-development-day/
END:VEVENT
BEGIN:VEVENT
DTSTART;VALUE=DATE:20230216
DTEND;VALUE=DATE:20230221
DTSTAMP:20260425T160837
CREATED:20221101T161110Z
LAST-MODIFIED:20221112T100042Z
UID:987491574-1676505600-1676937599@gis.edu.gh
SUMMARY:Half-Term Holiday
DESCRIPTION:
URL:https://gis.edu.gh/event/half-term-holiday-2/
CATEGORIES:Infant School,Junior School,Lower Secondary School,Main Page,Senior Secondary,Upper Secondary School
END:VEVENT
BEGIN:VEVENT
DTSTART;TZID=UTC:20230211T080000
DTEND;TZID=UTC:20230211T170000
DTSTAMP:20260425T160837
CREATED:20221101T160918Z
LAST-MODIFIED:20221112T095923Z
UID:987491572-1676102400-1676134800@gis.edu.gh
SUMMARY:PTA Bazaar
DESCRIPTION:
URL:https://gis.edu.gh/event/pta-bazaar/
CATEGORIES:Main Page
END:VEVENT
END:VCALENDAR