BEGIN:VCALENDAR
VERSION:2.0
PRODID:-//GIS - ECPv6.15.15//NONSGML v1.0//EN
CALSCALE:GREGORIAN
METHOD:PUBLISH
X-WR-CALNAME:GIS
X-ORIGINAL-URL:https://gis.edu.gh
X-WR-CALDESC:Events for GIS
REFRESH-INTERVAL;VALUE=DURATION:PT1H
X-Robots-Tag:noindex
X-PUBLISHED-TTL:PT1H
BEGIN:VTIMEZONE
TZID:Africa/Accra
BEGIN:STANDARD
TZOFFSETFROM:+0000
TZOFFSETTO:+0000
TZNAME:GMT
DTSTART:20210101T000000
END:STANDARD
END:VTIMEZONE
BEGIN:VEVENT
DTSTART;VALUE=DATE:20220921
DTEND;VALUE=DATE:20220922
DTSTAMP:20260425T143524
CREATED:20220926T140556Z
LAST-MODIFIED:20221026T103948Z
UID:987490964-1663718400-1663804799@gis.edu.gh
SUMMARY:Kwame Nkrumah Memorial
DESCRIPTION:
URL:https://gis.edu.gh/event/kwame-nkrumah-memorial-2/
CATEGORIES:National Holiday
END:VEVENT
END:VCALENDAR