BEGIN:VCALENDAR
VERSION:2.0
PRODID:-//GIS - ECPv6.15.15//NONSGML v1.0//EN
CALSCALE:GREGORIAN
METHOD:PUBLISH
X-WR-CALNAME:GIS
X-ORIGINAL-URL:https://gis.edu.gh
X-WR-CALDESC:Events for GIS
REFRESH-INTERVAL;VALUE=DURATION:PT1H
X-Robots-Tag:noindex
X-PUBLISHED-TTL:PT1H
BEGIN:VTIMEZONE
TZID:UTC
BEGIN:STANDARD
TZOFFSETFROM:+0000
TZOFFSETTO:+0000
TZNAME:UTC
DTSTART:20210101T000000
END:STANDARD
END:VTIMEZONE
BEGIN:VEVENT
DTSTART;TZID=UTC:20241012T080000
DTEND;TZID=UTC:20241012T170000
DTSTAMP:20260425T011537
CREATED:20240910T082322Z
LAST-MODIFIED:20240910T082322Z
UID:987494266-1728720000-1728752400@gis.edu.gh
SUMMARY:TISMUN and ISSAG Football
DESCRIPTION:
URL:https://gis.edu.gh/event/tismun-and-issag-football/
CATEGORIES:Lower Secondary School,Senior Secondary,Upper Secondary School
END:VEVENT
BEGIN:VEVENT
DTSTART;TZID=UTC:20241007T080000
DTEND;TZID=UTC:20241011T170000
DTSTAMP:20260425T011537
CREATED:20240910T082247Z
LAST-MODIFIED:20240910T082247Z
UID:987494264-1728288000-1728666000@gis.edu.gh
SUMMARY:International School Library Week
DESCRIPTION:
URL:https://gis.edu.gh/event/international-school-library-week/
CATEGORIES:Lower Secondary School,Senior Secondary,Upper Secondary School
END:VEVENT
BEGIN:VEVENT
DTSTART;TZID=UTC:20240927T140000
DTEND;TZID=UTC:20240927T151000
DTSTAMP:20260425T011537
CREATED:20240910T082149Z
LAST-MODIFIED:20240910T082149Z
UID:987494262-1727445600-1727449800@gis.edu.gh
SUMMARY:Initiation Assembly
DESCRIPTION:
URL:https://gis.edu.gh/event/initiation-assembly/
CATEGORIES:Lower Secondary School,Senior Secondary,Upper Secondary School
END:VEVENT
BEGIN:VEVENT
DTSTART;TZID=UTC:20240925T080000
DTEND;TZID=UTC:20240927T170000
DTSTAMP:20260425T011537
CREATED:20240910T082005Z
LAST-MODIFIED:20240910T082005Z
UID:987494258-1727251200-1727456400@gis.edu.gh
SUMMARY:“School Spirit” Week SRC Programme
DESCRIPTION:
URL:https://gis.edu.gh/event/school-spirit-week-src-programme/
CATEGORIES:Lower Secondary School,Senior Secondary,Upper Secondary School
END:VEVENT
BEGIN:VEVENT
DTSTART;TZID=UTC:20240923T080000
DTEND;TZID=UTC:20240923T170000
DTSTAMP:20260425T011537
CREATED:20240910T081619Z
LAST-MODIFIED:20240910T081619Z
UID:987494253-1727078400-1727110800@gis.edu.gh
SUMMARY:Kwame Nkrumah Day (Public Holiday)
DESCRIPTION:
URL:https://gis.edu.gh/event/kwame-nkrumah-day-public-holiday/
CATEGORIES:Lower Secondary School,Senior Secondary,Upper Secondary School
END:VEVENT
BEGIN:VEVENT
DTSTART;TZID=UTC:20240919T153000
DTEND;TZID=UTC:20240919T170000
DTSTAMP:20260425T011537
CREATED:20240910T081530Z
LAST-MODIFIED:20240910T081530Z
UID:987494246-1726759800-1726765200@gis.edu.gh
SUMMARY:Nature of Courses meeting with Upper Secondary Vice Principal\, Heads of Departments and Form 4 to Upper 6 Parents
DESCRIPTION:
URL:https://gis.edu.gh/event/nature-of-courses-meeting-with-upper-secondary-vice-principal-heads-of-departments-and-form-4-to-upper-6-parents/
CATEGORIES:Lower Secondary School,Senior Secondary,Upper Secondary School
END:VEVENT
BEGIN:VEVENT
DTSTART;TZID=UTC:20240626T140000
DTEND;TZID=UTC:20240626T170000
DTSTAMP:20260425T011537
CREATED:20240620T110513Z
LAST-MODIFIED:20240620T110553Z
UID:987494046-1719410400-1719421200@gis.edu.gh
SUMMARY:Secondary School Speech\, Prize-Giving & Graduation Day
DESCRIPTION:
URL:https://gis.edu.gh/event/secondary-school-speech-prize-giving-graduation-day/
CATEGORIES:Lower Secondary School,Main Page,Upper Secondary School
ATTACH;FMTTYPE=image/png:https://gis.edu.gh/wp-content/uploads/2024/06/image-4.png
END:VEVENT
BEGIN:VEVENT
DTSTART;VALUE=DATE:20230216
DTEND;VALUE=DATE:20230221
DTSTAMP:20260425T011537
CREATED:20221101T161110Z
LAST-MODIFIED:20221112T100042Z
UID:987491574-1676505600-1676937599@gis.edu.gh
SUMMARY:Half-Term Holiday
DESCRIPTION:
URL:https://gis.edu.gh/event/half-term-holiday-2/
CATEGORIES:Infant School,Junior School,Lower Secondary School,Main Page,Senior Secondary,Upper Secondary School
END:VEVENT
BEGIN:VEVENT
DTSTART;TZID=UTC:20230104T080000
DTEND;TZID=UTC:20230104T170000
DTSTAMP:20260425T011537
CREATED:20221110T234834Z
LAST-MODIFIED:20221112T095933Z
UID:987491851-1672819200-1672851600@gis.edu.gh
SUMMARY:Start of Term 2
DESCRIPTION:
URL:https://gis.edu.gh/event/start-of-term-2/
CATEGORIES:Infant School,Junior School,Lower Secondary School,Main Page,Senior Secondary,Upper Secondary School
END:VEVENT
BEGIN:VEVENT
DTSTART;VALUE=DATE:20221214
DTEND;VALUE=DATE:20221215
DTSTAMP:20260425T011537
CREATED:20221110T234721Z
LAST-MODIFIED:20221110T234912Z
UID:987491849-1670976000-1671062399@gis.edu.gh
SUMMARY:End of Term 1 (students)
DESCRIPTION:
URL:https://gis.edu.gh/event/end-of-term-1-students/
CATEGORIES:Infant School,Junior School,Lower Secondary School,Main Page,Senior Secondary,Upper Secondary School
END:VEVENT
BEGIN:VEVENT
DTSTART;VALUE=DATE:20221209
DTEND;VALUE=DATE:20221210
DTSTAMP:20260425T011537
CREATED:20221112T095320Z
LAST-MODIFIED:20221112T095320Z
UID:987492141-1670544000-1670630399@gis.edu.gh
SUMMARY:End of Exams
DESCRIPTION:
URL:https://gis.edu.gh/event/end-of-exams/
CATEGORIES:Lower Secondary School,Senior Secondary,Upper Secondary School
END:VEVENT
BEGIN:VEVENT
DTSTART;VALUE=DATE:20221125
DTEND;VALUE=DATE:20221126
DTSTAMP:20260425T011537
CREATED:20221112T095124Z
LAST-MODIFIED:20221112T095124Z
UID:987492137-1669334400-1669420799@gis.edu.gh
SUMMARY:Start of Exams
DESCRIPTION:
URL:https://gis.edu.gh/event/start-of-exams/
CATEGORIES:Senior Secondary,Upper Secondary School
END:VEVENT
BEGIN:VEVENT
DTSTART;VALUE=DATE:20221118
DTEND;VALUE=DATE:20221119
DTSTAMP:20260425T011537
CREATED:20221112T095012Z
LAST-MODIFIED:20221112T095012Z
UID:987492135-1668729600-1668815999@gis.edu.gh
SUMMARY:Pastoral Care Meeting
DESCRIPTION:
URL:https://gis.edu.gh/event/pastoral-care-meeting/
CATEGORIES:Lower Secondary School,Senior Secondary,Upper Secondary School
END:VEVENT
BEGIN:VEVENT
DTSTART;VALUE=DATE:20221114
DTEND;VALUE=DATE:20221119
DTSTAMP:20260425T011537
CREATED:20221112T094420Z
LAST-MODIFIED:20221112T094420Z
UID:987492128-1668384000-1668815999@gis.edu.gh
SUMMARY:Have-a-Heart Week
DESCRIPTION:
URL:https://gis.edu.gh/event/have-a-heart-week/
CATEGORIES:Lower Secondary School,Upper Secondary School
END:VEVENT
BEGIN:VEVENT
DTSTART;TZID=UTC:20221112T153000
DTEND;TZID=UTC:20221112T170000
DTSTAMP:20260425T011537
CREATED:20221112T094916Z
LAST-MODIFIED:20221112T094916Z
UID:987492132-1668267000-1668272400@gis.edu.gh
SUMMARY:Special Forum for Parents & Teachers
DESCRIPTION:
URL:https://gis.edu.gh/event/special-forum-for-parents-teachers/
LOCATION:Upper Secondary Block
CATEGORIES:Upper Secondary School
END:VEVENT
END:VCALENDAR