BEGIN:VCALENDAR
VERSION:2.0
PRODID:-//GIS - ECPv6.15.15//NONSGML v1.0//EN
CALSCALE:GREGORIAN
METHOD:PUBLISH
X-WR-CALNAME:GIS
X-ORIGINAL-URL:https://gis.edu.gh
X-WR-CALDESC:Events for GIS
REFRESH-INTERVAL;VALUE=DURATION:PT1H
X-Robots-Tag:noindex
X-PUBLISHED-TTL:PT1H
BEGIN:VTIMEZONE
TZID:UTC
BEGIN:STANDARD
TZOFFSETFROM:+0000
TZOFFSETTO:+0000
TZNAME:UTC
DTSTART:20230101T000000
END:STANDARD
END:VTIMEZONE
BEGIN:VEVENT
DTSTART;VALUE=DATE:20260221
DTEND;VALUE=DATE:20260222
DTSTAMP:20260424T221206
CREATED:20260104T215038Z
LAST-MODIFIED:20260104T215038Z
UID:987495705-1771632000-1771718399@gis.edu.gh
SUMMARY:PTA Bazaar
DESCRIPTION:
URL:https://gis.edu.gh/event/pta-bazaar-4/
CATEGORIES:Infant School,Junior School,Lower Secondary School,Main Page,Upper Secondary School
END:VEVENT
BEGIN:VEVENT
DTSTART;TZID=UTC:20260219T080000
DTEND;TZID=UTC:20260223T170000
DTSTAMP:20260424T221206
CREATED:20260104T214936Z
LAST-MODIFIED:20260104T214936Z
UID:987495703-1771488000-1771866000@gis.edu.gh
SUMMARY:Half-Term Holiday
DESCRIPTION:
URL:https://gis.edu.gh/event/half-term-holiday-9/
CATEGORIES:Infant School,Junior School,Lower Secondary School,Main Page,Upper Secondary School
END:VEVENT
BEGIN:VEVENT
DTSTART;VALUE=DATE:20260107
DTEND;VALUE=DATE:20260108
DTSTAMP:20260424T221206
CREATED:20260104T214747Z
LAST-MODIFIED:20260104T214747Z
UID:987495701-1767744000-1767830399@gis.edu.gh
SUMMARY:Constitution Day
DESCRIPTION:
URL:https://gis.edu.gh/event/constitution-day/
CATEGORIES:Infant School,Junior School,Lower Secondary School,Main Page,Upper Secondary School
END:VEVENT
BEGIN:VEVENT
DTSTART;TZID=UTC:20260105T080000
DTEND;TZID=UTC:20260105T170000
DTSTAMP:20260424T221206
CREATED:20260104T214554Z
LAST-MODIFIED:20260104T214554Z
UID:987495697-1767600000-1767632400@gis.edu.gh
SUMMARY:Term 2 Begins
DESCRIPTION:
URL:https://gis.edu.gh/event/term-2-begins-2/
CATEGORIES:Infant School,Junior School,Lower Secondary School,Main Page,Upper Secondary School
END:VEVENT
BEGIN:VEVENT
DTSTART;TZID=UTC:20251212T080000
DTEND;TZID=UTC:20251212T170000
DTSTAMP:20260424T221206
CREATED:20250818T152232Z
LAST-MODIFIED:20250818T152232Z
UID:987495271-1765526400-1765558800@gis.edu.gh
SUMMARY:Term 1 Ends
DESCRIPTION:
URL:https://gis.edu.gh/event/term-1-ends-2/
CATEGORIES:Infant School,Junior School,Lower Secondary School,Main Page,Upper Secondary School
END:VEVENT
BEGIN:VEVENT
DTSTART;TZID=UTC:20251205T080000
DTEND;TZID=UTC:20251205T170000
DTSTAMP:20260424T221206
CREATED:20250818T152149Z
LAST-MODIFIED:20250818T152203Z
UID:987495269-1764921600-1764954000@gis.edu.gh
SUMMARY:Farmers Day (Public Holiday)
DESCRIPTION:
URL:https://gis.edu.gh/event/farmers-day-public-holiday-5/
CATEGORIES:Infant School,Junior School,Lower Secondary School,Main Page,Upper Secondary School
END:VEVENT
BEGIN:VEVENT
DTSTART;TZID=UTC:20251108T080000
DTEND;TZID=UTC:20251108T170000
DTSTAMP:20260424T221206
CREATED:20250818T152119Z
LAST-MODIFIED:20250819T152909Z
UID:987495267-1762588800-1762621200@gis.edu.gh
SUMMARY:PTA Sponsored Walk
DESCRIPTION:
URL:https://gis.edu.gh/event/pta-sponsored-walk-6/
CATEGORIES:Junior School,Lower Secondary School,Main Page,Upper Secondary School
END:VEVENT
BEGIN:VEVENT
DTSTART;TZID=UTC:20251027T080000
DTEND;TZID=UTC:20251031T170000
DTSTAMP:20260424T221206
CREATED:20250818T152044Z
LAST-MODIFIED:20250819T152837Z
UID:987495265-1761552000-1761930000@gis.edu.gh
SUMMARY:Half-Term Holiday
DESCRIPTION:
URL:https://gis.edu.gh/event/half-term-holiday-8/
CATEGORIES:Infant School,Junior School,Lower Secondary School,Main Page,Upper Secondary School
END:VEVENT
BEGIN:VEVENT
DTSTART;TZID=UTC:20251024T080000
DTEND;TZID=UTC:20251024T170000
DTSTAMP:20260424T221206
CREATED:20250818T151934Z
LAST-MODIFIED:20250819T152818Z
UID:987495263-1761292800-1761325200@gis.edu.gh
SUMMARY:UN Day Celebration Durbar
DESCRIPTION:
URL:https://gis.edu.gh/event/un-day-celebration-durbar-7/
CATEGORIES:Infant School,Junior School,Lower Secondary School,Main Page,Upper Secondary School
END:VEVENT
BEGIN:VEVENT
DTSTART;TZID=UTC:20251011T080000
DTEND;TZID=UTC:20251011T170000
DTSTAMP:20260424T221206
CREATED:20250818T151903Z
LAST-MODIFIED:20250819T152800Z
UID:987495261-1760169600-1760202000@gis.edu.gh
SUMMARY:Time Conference
DESCRIPTION:
URL:https://gis.edu.gh/event/time-conference-4/
CATEGORIES:Infant School,Junior School,Lower Secondary School,Main Page,Upper Secondary School
END:VEVENT
BEGIN:VEVENT
DTSTART;TZID=UTC:20250922T080000
DTEND;TZID=UTC:20250922T170000
DTSTAMP:20260424T221206
CREATED:20250818T151830Z
LAST-MODIFIED:20250819T152737Z
UID:987495259-1758528000-1758560400@gis.edu.gh
SUMMARY:Kwame Nkrumah Memorial Day (Public Holiday)
DESCRIPTION:
URL:https://gis.edu.gh/event/kwame-nkrumah-memorial-day-public-holiday-4/
CATEGORIES:Infant School,Junior School,Lower Secondary School,Main Page,Upper Secondary School
END:VEVENT
BEGIN:VEVENT
DTSTART;TZID=UTC:20250901T080000
DTEND;TZID=UTC:20250901T170000
DTSTAMP:20260424T221206
CREATED:20250818T151732Z
LAST-MODIFIED:20250820T133017Z
UID:987495257-1756713600-1756746000@gis.edu.gh
SUMMARY:Term 1 Begins
DESCRIPTION:
URL:https://gis.edu.gh/event/term-1-begins/
CATEGORIES:Infant School,Junior School,Lower Secondary School,Main Page,Senior Secondary,Upper Secondary School
END:VEVENT
BEGIN:VEVENT
DTSTART;TZID=UTC:20250106T080000
DTEND;TZID=UTC:20250106T170000
DTSTAMP:20260424T221206
CREATED:20240910T085200Z
LAST-MODIFIED:20240910T085200Z
UID:987494310-1736150400-1736182800@gis.edu.gh
SUMMARY:First Day of Term 2
DESCRIPTION:
URL:https://gis.edu.gh/event/first-day-of-term-2-2/
CATEGORIES:Lower Secondary School,Senior Secondary,Upper Secondary School
END:VEVENT
BEGIN:VEVENT
DTSTART;TZID=UTC:20241219T080000
DTEND;TZID=UTC:20241219T170000
DTSTAMP:20260424T221206
CREATED:20240910T085135Z
LAST-MODIFIED:20240910T085135Z
UID:987494308-1734595200-1734627600@gis.edu.gh
SUMMARY:Last Day of Term 1
DESCRIPTION:
URL:https://gis.edu.gh/event/last-day-of-term-1-2/
CATEGORIES:Lower Secondary School,Senior Secondary,Upper Secondary School
END:VEVENT
BEGIN:VEVENT
DTSTART;TZID=UTC:20241217T180000
DTEND;TZID=UTC:20241217T200000
DTSTAMP:20260424T221206
CREATED:20240910T085104Z
LAST-MODIFIED:20240910T085104Z
UID:987494306-1734458400-1734465600@gis.edu.gh
SUMMARY:Evening of Carols
DESCRIPTION:
URL:https://gis.edu.gh/event/evening-of-carols/
CATEGORIES:Lower Secondary School,Senior Secondary,Upper Secondary School
END:VEVENT
BEGIN:VEVENT
DTSTART;TZID=UTC:20241212T080000
DTEND;TZID=UTC:20241218T170000
DTSTAMP:20260424T221206
CREATED:20240910T085031Z
LAST-MODIFIED:20240910T085031Z
UID:987494304-1733990400-1734541200@gis.edu.gh
SUMMARY:Resume Teaching and Learning
DESCRIPTION:
URL:https://gis.edu.gh/event/resume-teaching-and-learning/
CATEGORIES:Lower Secondary School,Senior Secondary,Upper Secondary School
END:VEVENT
BEGIN:VEVENT
DTSTART;TZID=UTC:20241209T080000
DTEND;TZID=UTC:20241211T170000
DTSTAMP:20260424T221206
CREATED:20240910T084949Z
LAST-MODIFIED:20240910T085000Z
UID:987494302-1733731200-1733936400@gis.edu.gh
SUMMARY:Feedback on Examinations
DESCRIPTION:
URL:https://gis.edu.gh/event/feedback-on-examinations/
CATEGORIES:Lower Secondary School,Upper Secondary School
END:VEVENT
BEGIN:VEVENT
DTSTART;TZID=UTC:20241205T080000
DTEND;TZID=UTC:20241205T170000
DTSTAMP:20260424T221206
CREATED:20240910T084833Z
LAST-MODIFIED:20240910T084833Z
UID:987494298-1733385600-1733418000@gis.edu.gh
SUMMARY:Last Day of Examinations (Forms 1 to U6)
DESCRIPTION:
URL:https://gis.edu.gh/event/last-day-of-examinations-forms-1-to-u6/
CATEGORIES:Lower Secondary School,Senior Secondary,Upper Secondary School
END:VEVENT
BEGIN:VEVENT
DTSTART;TZID=UTC:20241118T080000
DTEND;TZID=UTC:20241118T170000
DTSTAMP:20260424T221206
CREATED:20240910T084733Z
LAST-MODIFIED:20240910T084733Z
UID:987494294-1731916800-1731949200@gis.edu.gh
SUMMARY:Start of Examinations (Forms 4 to U6)
DESCRIPTION:
URL:https://gis.edu.gh/event/start-of-examinations-forms-4-to-u6/
CATEGORIES:Upper Secondary School
END:VEVENT
BEGIN:VEVENT
DTSTART;TZID=UTC:20241116T080000
DTEND;TZID=UTC:20241116T170000
DTSTAMP:20260424T221206
CREATED:20240910T084557Z
LAST-MODIFIED:20240910T084634Z
UID:987494292-1731744000-1731776400@gis.edu.gh
SUMMARY:ISSAG Volleyball\, Swimming and Table Tennis
DESCRIPTION:
URL:https://gis.edu.gh/event/issag-volleyball-swimming-and-table-tennis/
CATEGORIES:Lower Secondary School,Senior Secondary,Upper Secondary School
END:VEVENT
BEGIN:VEVENT
DTSTART;TZID=UTC:20241114T153000
DTEND;TZID=UTC:20241114T170000
DTSTAMP:20260424T221206
CREATED:20240910T084351Z
LAST-MODIFIED:20240910T084351Z
UID:987494290-1731598200-1731603600@gis.edu.gh
SUMMARY:Parent Teacher Conferences Forms 4 to U6
DESCRIPTION:
URL:https://gis.edu.gh/event/parent-teacher-conferences-forms-4-to-u6/
CATEGORIES:Upper Secondary School
END:VEVENT
BEGIN:VEVENT
DTSTART;TZID=UTC:20241111T080000
DTEND;TZID=UTC:20241115T170000
DTSTAMP:20260424T221206
CREATED:20240910T083414Z
LAST-MODIFIED:20240910T083414Z
UID:987494286-1731312000-1731690000@gis.edu.gh
SUMMARY:Have-a Heart Week
DESCRIPTION:
URL:https://gis.edu.gh/event/have-a-heart-week-2/
CATEGORIES:Lower Secondary School,Senior Secondary,Upper Secondary School
END:VEVENT
BEGIN:VEVENT
DTSTART;TZID=UTC:20241021T080000
DTEND;TZID=UTC:20241025T170000
DTSTAMP:20260424T221206
CREATED:20240910T082546Z
LAST-MODIFIED:20240910T082546Z
UID:987494272-1729497600-1729875600@gis.edu.gh
SUMMARY:Half-Term Holiday
DESCRIPTION:
URL:https://gis.edu.gh/event/half-term-holiday-6/
CATEGORIES:Lower Secondary School,Senior Secondary,Upper Secondary School
END:VEVENT
BEGIN:VEVENT
DTSTART;TZID=UTC:20241019T080000
DTEND;TZID=UTC:20241019T170000
DTSTAMP:20260424T221206
CREATED:20240910T082516Z
LAST-MODIFIED:20240910T082516Z
UID:987494270-1729324800-1729357200@gis.edu.gh
SUMMARY:ISSAG Football
DESCRIPTION:
URL:https://gis.edu.gh/event/issag-football/
CATEGORIES:Lower Secondary School,Senior Secondary,Upper Secondary School
END:VEVENT
BEGIN:VEVENT
DTSTART;TZID=UTC:20241012T080000
DTEND;TZID=UTC:20241012T170000
DTSTAMP:20260424T221206
CREATED:20240910T082322Z
LAST-MODIFIED:20240910T082322Z
UID:987494266-1728720000-1728752400@gis.edu.gh
SUMMARY:TISMUN and ISSAG Football
DESCRIPTION:
URL:https://gis.edu.gh/event/tismun-and-issag-football/
CATEGORIES:Lower Secondary School,Senior Secondary,Upper Secondary School
END:VEVENT
BEGIN:VEVENT
DTSTART;TZID=UTC:20241007T080000
DTEND;TZID=UTC:20241011T170000
DTSTAMP:20260424T221206
CREATED:20240910T082247Z
LAST-MODIFIED:20240910T082247Z
UID:987494264-1728288000-1728666000@gis.edu.gh
SUMMARY:International School Library Week
DESCRIPTION:
URL:https://gis.edu.gh/event/international-school-library-week/
CATEGORIES:Lower Secondary School,Senior Secondary,Upper Secondary School
END:VEVENT
BEGIN:VEVENT
DTSTART;TZID=UTC:20240927T140000
DTEND;TZID=UTC:20240927T151000
DTSTAMP:20260424T221206
CREATED:20240910T082149Z
LAST-MODIFIED:20240910T082149Z
UID:987494262-1727445600-1727449800@gis.edu.gh
SUMMARY:Initiation Assembly
DESCRIPTION:
URL:https://gis.edu.gh/event/initiation-assembly/
CATEGORIES:Lower Secondary School,Senior Secondary,Upper Secondary School
END:VEVENT
BEGIN:VEVENT
DTSTART;TZID=UTC:20240925T080000
DTEND;TZID=UTC:20240927T170000
DTSTAMP:20260424T221206
CREATED:20240910T082005Z
LAST-MODIFIED:20240910T082005Z
UID:987494258-1727251200-1727456400@gis.edu.gh
SUMMARY:“School Spirit” Week SRC Programme
DESCRIPTION:
URL:https://gis.edu.gh/event/school-spirit-week-src-programme/
CATEGORIES:Lower Secondary School,Senior Secondary,Upper Secondary School
END:VEVENT
BEGIN:VEVENT
DTSTART;TZID=UTC:20240923T080000
DTEND;TZID=UTC:20240923T170000
DTSTAMP:20260424T221206
CREATED:20240910T081619Z
LAST-MODIFIED:20240910T081619Z
UID:987494253-1727078400-1727110800@gis.edu.gh
SUMMARY:Kwame Nkrumah Day (Public Holiday)
DESCRIPTION:
URL:https://gis.edu.gh/event/kwame-nkrumah-day-public-holiday/
CATEGORIES:Lower Secondary School,Senior Secondary,Upper Secondary School
END:VEVENT
BEGIN:VEVENT
DTSTART;TZID=UTC:20240919T153000
DTEND;TZID=UTC:20240919T170000
DTSTAMP:20260424T221206
CREATED:20240910T081530Z
LAST-MODIFIED:20240910T081530Z
UID:987494246-1726759800-1726765200@gis.edu.gh
SUMMARY:Nature of Courses meeting with Upper Secondary Vice Principal\, Heads of Departments and Form 4 to Upper 6 Parents
DESCRIPTION:
URL:https://gis.edu.gh/event/nature-of-courses-meeting-with-upper-secondary-vice-principal-heads-of-departments-and-form-4-to-upper-6-parents/
CATEGORIES:Lower Secondary School,Senior Secondary,Upper Secondary School
END:VEVENT
END:VCALENDAR