BEGIN:VCALENDAR
VERSION:2.0
PRODID:-//GIS - ECPv6.15.15//NONSGML v1.0//EN
CALSCALE:GREGORIAN
METHOD:PUBLISH
X-ORIGINAL-URL:https://gis.edu.gh
X-WR-CALDESC:Events for GIS
REFRESH-INTERVAL;VALUE=DURATION:PT1H
X-Robots-Tag:noindex
X-PUBLISHED-TTL:PT1H
BEGIN:VTIMEZONE
TZID:UTC
BEGIN:STANDARD
TZOFFSETFROM:+0000
TZOFFSETTO:+0000
TZNAME:UTC
DTSTART:20210101T000000
END:STANDARD
END:VTIMEZONE
BEGIN:VEVENT
DTSTART;TZID=UTC:20250106T080000
DTEND;TZID=UTC:20250106T170000
DTSTAMP:20260424T234410
CREATED:20240910T075431Z
LAST-MODIFIED:20240910T075431Z
UID:987494242-1736150400-1736182800@gis.edu.gh
SUMMARY:Term 2 Begins
DESCRIPTION:
URL:https://gis.edu.gh/event/term-2-begins/
CATEGORIES:Junior School
END:VEVENT
BEGIN:VEVENT
DTSTART;TZID=UTC:20241219T130000
DTEND;TZID=UTC:20241219T153000
DTSTAMP:20260424T234410
CREATED:20240910T075343Z
LAST-MODIFIED:20240910T075343Z
UID:987494240-1734613200-1734622200@gis.edu.gh
SUMMARY:Open Day
DESCRIPTION:
URL:https://gis.edu.gh/event/open-day-3/
CATEGORIES:Junior School
END:VEVENT
BEGIN:VEVENT
DTSTART;TZID=UTC:20241219T080000
DTEND;TZID=UTC:20241219T170000
DTSTAMP:20260424T234410
CREATED:20240910T075303Z
LAST-MODIFIED:20240910T075303Z
UID:987494238-1734595200-1734627600@gis.edu.gh
SUMMARY:Last Day of Term 1
DESCRIPTION:
URL:https://gis.edu.gh/event/last-day-of-term-1/
CATEGORIES:Junior School
END:VEVENT
BEGIN:VEVENT
DTSTART;TZID=UTC:20241213T080000
DTEND;TZID=UTC:20241213T170000
DTSTAMP:20260424T234410
CREATED:20240910T075231Z
LAST-MODIFIED:20240910T075231Z
UID:987494236-1734076800-1734109200@gis.edu.gh
SUMMARY:Festival of the Arts
DESCRIPTION:
URL:https://gis.edu.gh/event/festival-of-the-arts/
CATEGORIES:Junior School
END:VEVENT
BEGIN:VEVENT
DTSTART;TZID=UTC:20241209T080000
DTEND;TZID=UTC:20241209T170000
DTSTAMP:20260424T234410
CREATED:20240910T075149Z
LAST-MODIFIED:20240910T075149Z
UID:987494234-1733731200-1733763600@gis.edu.gh
SUMMARY:Year 4 Egypt Day
DESCRIPTION:
URL:https://gis.edu.gh/event/year-4-egypt-day/
CATEGORIES:Junior School
END:VEVENT
BEGIN:VEVENT
DTSTART;TZID=UTC:20241206T080000
DTEND;TZID=UTC:20241206T170000
DTSTAMP:20260424T234410
CREATED:20240910T075124Z
LAST-MODIFIED:20240910T075124Z
UID:987494232-1733472000-1733504400@gis.edu.gh
SUMMARY:Farmers Day (Public Holiday)
DESCRIPTION:
URL:https://gis.edu.gh/event/farmers-day-public-holiday-3/
CATEGORIES:Junior School
END:VEVENT
BEGIN:VEVENT
DTSTART;TZID=UTC:20241205T080000
DTEND;TZID=UTC:20241205T170000
DTSTAMP:20260424T234410
CREATED:20240910T075047Z
LAST-MODIFIED:20240910T075047Z
UID:987494230-1733385600-1733418000@gis.edu.gh
SUMMARY:Achievement Awards for Nov./Dec.
DESCRIPTION:
URL:https://gis.edu.gh/event/achievement-awards-for-nov-dec-3/
CATEGORIES:Junior School
END:VEVENT
BEGIN:VEVENT
DTSTART;TZID=UTC:20241129T080000
DTEND;TZID=UTC:20241129T170000
DTSTAMP:20260424T234410
CREATED:20240910T075018Z
LAST-MODIFIED:20240910T075018Z
UID:987494228-1732867200-1732899600@gis.edu.gh
SUMMARY:SRC Plain Clothes Day
DESCRIPTION:
URL:https://gis.edu.gh/event/src-plain-clothes-day/
CATEGORIES:Junior School
END:VEVENT
BEGIN:VEVENT
DTSTART;TZID=UTC:20241129T080000
DTEND;TZID=UTC:20241129T170000
DTSTAMP:20260424T234410
CREATED:20240910T074945Z
LAST-MODIFIED:20240910T074945Z
UID:987494226-1732867200-1732899600@gis.edu.gh
SUMMARY:Coffee Rendez-vous
DESCRIPTION:
URL:https://gis.edu.gh/event/coffee-rendez-vous/
CATEGORIES:Junior School
END:VEVENT
BEGIN:VEVENT
DTSTART;TZID=UTC:20241125T080000
DTEND;TZID=UTC:20241128T170000
DTSTAMP:20260424T234410
CREATED:20240910T074914Z
LAST-MODIFIED:20240910T074914Z
UID:987494224-1732521600-1732813200@gis.edu.gh
SUMMARY:Exam Feedback Week
DESCRIPTION:
URL:https://gis.edu.gh/event/exam-feedback-week/
CATEGORIES:Junior School
END:VEVENT
BEGIN:VEVENT
DTSTART;TZID=UTC:20241115T080000
DTEND;TZID=UTC:20241122T170000
DTSTAMP:20260424T234410
CREATED:20240910T074835Z
LAST-MODIFIED:20240910T074835Z
UID:987494222-1731657600-1732294800@gis.edu.gh
SUMMARY:Exam Week
DESCRIPTION:
URL:https://gis.edu.gh/event/exam-week-2/
CATEGORIES:Junior School
END:VEVENT
BEGIN:VEVENT
DTSTART;TZID=UTC:20241109T080000
DTEND;TZID=UTC:20241109T170000
DTSTAMP:20260424T234410
CREATED:20240910T074753Z
LAST-MODIFIED:20240910T074753Z
UID:987494220-1731139200-1731171600@gis.edu.gh
SUMMARY:PTA Sponsored Walk (TBC)
DESCRIPTION:
URL:https://gis.edu.gh/event/pta-sponsored-walk-tbc/
CATEGORIES:Junior School
END:VEVENT
BEGIN:VEVENT
DTSTART;TZID=UTC:20241107T080000
DTEND;TZID=UTC:20241107T170000
DTSTAMP:20260424T234410
CREATED:20240910T074727Z
LAST-MODIFIED:20240910T074727Z
UID:987494218-1730966400-1730998800@gis.edu.gh
SUMMARY:Talent Showcase
DESCRIPTION:
URL:https://gis.edu.gh/event/talent-showcase/
CATEGORIES:Junior School
END:VEVENT
BEGIN:VEVENT
DTSTART;TZID=UTC:20241106T080000
DTEND;TZID=UTC:20241106T170000
DTSTAMP:20260424T234410
CREATED:20240910T074704Z
LAST-MODIFIED:20240910T074704Z
UID:987494216-1730880000-1730912400@gis.edu.gh
SUMMARY:Year 3 Stone Age Activity Day
DESCRIPTION:
URL:https://gis.edu.gh/event/year-3-stone-age-activity-day/
CATEGORIES:Junior School
END:VEVENT
BEGIN:VEVENT
DTSTART;TZID=UTC:20241021T080000
DTEND;TZID=UTC:20241025T170000
DTSTAMP:20260424T234410
CREATED:20240910T074629Z
LAST-MODIFIED:20240910T074629Z
UID:987494213-1729497600-1729875600@gis.edu.gh
SUMMARY:Half-Term Holiday (No School)
DESCRIPTION:
URL:https://gis.edu.gh/event/half-term-holiday-no-school-2/
CATEGORIES:Junior School
END:VEVENT
BEGIN:VEVENT
DTSTART;TZID=UTC:20241018T080000
DTEND;TZID=UTC:20241018T170000
DTSTAMP:20260424T234410
CREATED:20240910T074541Z
LAST-MODIFIED:20240910T074541Z
UID:987494211-1729238400-1729270800@gis.edu.gh
SUMMARY:UN Day Celebration Durbar
DESCRIPTION:
URL:https://gis.edu.gh/event/un-day-celebration-durbar-5/
CATEGORIES:Junior School
END:VEVENT
BEGIN:VEVENT
DTSTART;TZID=UTC:20241017T080000
DTEND;TZID=UTC:20241017T170000
DTSTAMP:20260424T234410
CREATED:20240910T074522Z
LAST-MODIFIED:20240910T074522Z
UID:987494209-1729152000-1729184400@gis.edu.gh
SUMMARY:Achievement Awards for Sept./Oct.
DESCRIPTION:
URL:https://gis.edu.gh/event/achievement-awards-for-sept-oct/
CATEGORIES:Junior School
END:VEVENT
BEGIN:VEVENT
DTSTART;TZID=UTC:20241008T080000
DTEND;TZID=UTC:20241008T170000
DTSTAMP:20260424T234410
CREATED:20240910T074458Z
LAST-MODIFIED:20240910T074458Z
UID:987494207-1728374400-1728406800@gis.edu.gh
SUMMARY:Year 4 trip to Weija Dam (TBC)
DESCRIPTION:
URL:https://gis.edu.gh/event/year-4-trip-to-weija-dam-tbc/
CATEGORIES:Junior School
END:VEVENT
BEGIN:VEVENT
DTSTART;TZID=UTC:20241007T141500
DTEND;TZID=UTC:20241011T161500
DTSTAMP:20260424T234410
CREATED:20240910T074414Z
LAST-MODIFIED:20240910T074414Z
UID:987494205-1728310500-1728663300@gis.edu.gh
SUMMARY:Parent-Teacher Conference
DESCRIPTION:
URL:https://gis.edu.gh/event/parent-teacher-conference/
CATEGORIES:Junior School
END:VEVENT
BEGIN:VEVENT
DTSTART;TZID=UTC:20241005T080000
DTEND;TZID=UTC:20241005T170000
DTSTAMP:20260424T234410
CREATED:20240910T074309Z
LAST-MODIFIED:20240910T074309Z
UID:987494203-1728115200-1728147600@gis.edu.gh
SUMMARY:TIME Conference
DESCRIPTION:
URL:https://gis.edu.gh/event/time-conference-3/
CATEGORIES:Junior School
END:VEVENT
BEGIN:VEVENT
DTSTART;TZID=UTC:20240923T080000
DTEND;TZID=UTC:20240923T170000
DTSTAMP:20260424T234410
CREATED:20240910T074228Z
LAST-MODIFIED:20240910T074228Z
UID:987494201-1727078400-1727110800@gis.edu.gh
SUMMARY:Kwame Nkrumah Memorial Day (Public Holiday)
DESCRIPTION:
URL:https://gis.edu.gh/event/kwame-nkrumah-memorial-day-public-holiday-3/
CATEGORIES:Junior School
END:VEVENT
BEGIN:VEVENT
DTSTART;TZID=UTC:20240917T160000
DTEND;TZID=UTC:20240917T170000
DTSTAMP:20260424T234410
CREATED:20240910T073907Z
LAST-MODIFIED:20240910T074146Z
UID:987494197-1726588800-1726592400@gis.edu.gh
SUMMARY:Parents’ Welcome Gathering
DESCRIPTION:
URL:https://gis.edu.gh/event/parents-welcome-gathering/
CATEGORIES:Junior School
END:VEVENT
BEGIN:VEVENT
DTSTART;TZID=UTC:20240917T143000
DTEND;TZID=UTC:20240917T170000
DTSTAMP:20260424T234410
CREATED:20240910T073954Z
LAST-MODIFIED:20240910T073954Z
UID:987494199-1726583400-1726592400@gis.edu.gh
SUMMARY:After School Activities
DESCRIPTION:
URL:https://gis.edu.gh/event/after-school-activities/
CATEGORIES:Junior School
END:VEVENT
BEGIN:VEVENT
DTSTART;TZID=UTC:20240913T080000
DTEND;TZID=UTC:20240913T170000
DTSTAMP:20260424T234410
CREATED:20240910T073827Z
LAST-MODIFIED:20240910T073827Z
UID:987494195-1726214400-1726246800@gis.edu.gh
SUMMARY:Co-curricular Starts
DESCRIPTION:
URL:https://gis.edu.gh/event/co-curricular-starts/
CATEGORIES:Junior School
END:VEVENT
BEGIN:VEVENT
DTSTART;TZID=UTC:20240912T074500
DTEND;TZID=UTC:20240912T080000
DTSTAMP:20260424T234410
CREATED:20240910T073750Z
LAST-MODIFIED:20240910T073750Z
UID:987494193-1726127100-1726128000@gis.edu.gh
SUMMARY:Welcome Assembly
DESCRIPTION:
URL:https://gis.edu.gh/event/welcome-assembly/
CATEGORIES:Junior School
END:VEVENT
BEGIN:VEVENT
DTSTART;TZID=UTC:20240910T080000
DTEND;TZID=UTC:20240911T170000
DTSTAMP:20260424T234410
CREATED:20240910T073648Z
LAST-MODIFIED:20240910T073648Z
UID:987494190-1725955200-1726074000@gis.edu.gh
SUMMARY:Diagnostic Tests for all classes
DESCRIPTION:
URL:https://gis.edu.gh/event/diagnostic-tests-for-all-classes/
CATEGORIES:Junior School
END:VEVENT
BEGIN:VEVENT
DTSTART;TZID=UTC:20240909T073000
DTEND;TZID=UTC:20240909T170000
DTSTAMP:20260424T234410
CREATED:20240910T073529Z
LAST-MODIFIED:20240910T073529Z
UID:987494188-1725867000-1725901200@gis.edu.gh
SUMMARY:Term Begins- First Day of Classes
DESCRIPTION:
URL:https://gis.edu.gh/event/term-begins-first-day-of-classes/
CATEGORIES:Junior School
END:VEVENT
BEGIN:VEVENT
DTSTART;VALUE=DATE:20230216
DTEND;VALUE=DATE:20230221
DTSTAMP:20260424T234410
CREATED:20221101T161110Z
LAST-MODIFIED:20221112T100042Z
UID:987491574-1676505600-1676937599@gis.edu.gh
SUMMARY:Half-Term Holiday
DESCRIPTION:
URL:https://gis.edu.gh/event/half-term-holiday-2/
CATEGORIES:Infant School,Junior School,Lower Secondary School,Main Page,Senior Secondary,Upper Secondary School
END:VEVENT
BEGIN:VEVENT
DTSTART;TZID=UTC:20230104T080000
DTEND;TZID=UTC:20230104T170000
DTSTAMP:20260424T234410
CREATED:20221110T234834Z
LAST-MODIFIED:20221112T095933Z
UID:987491851-1672819200-1672851600@gis.edu.gh
SUMMARY:Start of Term 2
DESCRIPTION:
URL:https://gis.edu.gh/event/start-of-term-2/
CATEGORIES:Infant School,Junior School,Lower Secondary School,Main Page,Senior Secondary,Upper Secondary School
END:VEVENT
BEGIN:VEVENT
DTSTART;VALUE=DATE:20221214
DTEND;VALUE=DATE:20221215
DTSTAMP:20260424T234410
CREATED:20221110T234721Z
LAST-MODIFIED:20221110T234912Z
UID:987491849-1670976000-1671062399@gis.edu.gh
SUMMARY:End of Term 1 (students)
DESCRIPTION:
URL:https://gis.edu.gh/event/end-of-term-1-students/
CATEGORIES:Infant School,Junior School,Lower Secondary School,Main Page,Senior Secondary,Upper Secondary School
END:VEVENT
END:VCALENDAR