BEGIN:VCALENDAR
VERSION:2.0
PRODID:-//GIS - ECPv6.15.15//NONSGML v1.0//EN
CALSCALE:GREGORIAN
METHOD:PUBLISH
X-ORIGINAL-URL:https://gis.edu.gh
X-WR-CALDESC:Events for GIS
REFRESH-INTERVAL;VALUE=DURATION:PT1H
X-Robots-Tag:noindex
X-PUBLISHED-TTL:PT1H
BEGIN:VTIMEZONE
TZID:UTC
BEGIN:STANDARD
TZOFFSETFROM:+0000
TZOFFSETTO:+0000
TZNAME:UTC
DTSTART:20240101T000000
END:STANDARD
END:VTIMEZONE
BEGIN:VEVENT
DTSTART;TZID=UTC:20250620T080000
DTEND;TZID=UTC:20250620T140000
DTSTAMP:20260425T143251
CREATED:20250414T145636Z
LAST-MODIFIED:20250414T145636Z
UID:987495015-1750406400-1750428000@gis.edu.gh
SUMMARY:Year Group Transitional Day
DESCRIPTION:
URL:https://gis.edu.gh/event/year-group-transitional-day/
CATEGORIES:Infant School
END:VEVENT
END:VCALENDAR