BEGIN:VCALENDAR
VERSION:2.0
PRODID:-//GIS - ECPv6.15.15//NONSGML v1.0//EN
CALSCALE:GREGORIAN
METHOD:PUBLISH
X-ORIGINAL-URL:https://gis.edu.gh
X-WR-CALDESC:Events for GIS
REFRESH-INTERVAL;VALUE=DURATION:PT1H
X-Robots-Tag:noindex
X-PUBLISHED-TTL:PT1H
BEGIN:VTIMEZONE
TZID:UTC
BEGIN:STANDARD
TZOFFSETFROM:+0000
TZOFFSETTO:+0000
TZNAME:UTC
DTSTART:20240101T000000
END:STANDARD
END:VTIMEZONE
BEGIN:VEVENT
DTSTART;TZID=UTC:20250602T080000
DTEND;TZID=UTC:20250606T170000
DTSTAMP:20260425T125744
CREATED:20250414T145216Z
LAST-MODIFIED:20250414T145216Z
UID:987495005-1748851200-1749229200@gis.edu.gh
SUMMARY:Festival of the 100 Languages of Children
DESCRIPTION:
URL:https://gis.edu.gh/event/festival-of-the-100-languages-of-children/
CATEGORIES:Infant School
END:VEVENT
BEGIN:VEVENT
DTSTART;TZID=UTC:20250604T143000
DTEND;TZID=UTC:20250604T163000
DTSTAMP:20260425T125744
CREATED:20250414T145330Z
LAST-MODIFIED:20250414T145330Z
UID:987495007-1749047400-1749054600@gis.edu.gh
SUMMARY:Transition Meeting for Class 2 Parents
DESCRIPTION:
URL:https://gis.edu.gh/event/transition-meeting-for-class-2-parents/
CATEGORIES:Infant School
END:VEVENT
BEGIN:VEVENT
DTSTART;TZID=UTC:20250618T074500
DTEND;TZID=UTC:20250618T090000
DTSTAMP:20260425T125744
CREATED:20250414T145435Z
LAST-MODIFIED:20250414T145435Z
UID:987495009-1750232700-1750237200@gis.edu.gh
SUMMARY:Year 2 Leavers’ Assembly
DESCRIPTION:
URL:https://gis.edu.gh/event/year-2-leavers-assembly/
CATEGORIES:Infant School
END:VEVENT
BEGIN:VEVENT
DTSTART;TZID=UTC:20250619T074500
DTEND;TZID=UTC:20250619T090000
DTSTAMP:20260425T125744
CREATED:20250414T145525Z
LAST-MODIFIED:20250414T145525Z
UID:987495011-1750319100-1750323600@gis.edu.gh
SUMMARY:Orientation for Class 2 students moving to the  Junior School
DESCRIPTION:
URL:https://gis.edu.gh/event/orientation-for-class-2-students-moving-to-the-junior-school/
CATEGORIES:Infant School
END:VEVENT
BEGIN:VEVENT
DTSTART;TZID=UTC:20250619T140000
DTEND;TZID=UTC:20250619T153000
DTSTAMP:20260425T125744
CREATED:20250414T145606Z
LAST-MODIFIED:20250414T145606Z
UID:987495013-1750341600-1750347000@gis.edu.gh
SUMMARY:Open Day
DESCRIPTION:
URL:https://gis.edu.gh/event/open-day-4/
CATEGORIES:Infant School
END:VEVENT
BEGIN:VEVENT
DTSTART;TZID=UTC:20250620T080000
DTEND;TZID=UTC:20250620T140000
DTSTAMP:20260425T125744
CREATED:20250414T145636Z
LAST-MODIFIED:20250414T145636Z
UID:987495015-1750406400-1750428000@gis.edu.gh
SUMMARY:Year Group Transitional Day
DESCRIPTION:
URL:https://gis.edu.gh/event/year-group-transitional-day/
CATEGORIES:Infant School
END:VEVENT
BEGIN:VEVENT
DTSTART;TZID=UTC:20250623T074500
DTEND;TZID=UTC:20250623T083000
DTSTAMP:20260425T125744
CREATED:20250414T145729Z
LAST-MODIFIED:20250414T145729Z
UID:987495017-1750664700-1750667400@gis.edu.gh
SUMMARY:Parent and Child Special Edition of Alfresco
DESCRIPTION:
URL:https://gis.edu.gh/event/parent-and-child-special-edition-of-alfresco/
CATEGORIES:Infant School
END:VEVENT
BEGIN:VEVENT
DTSTART;TZID=UTC:20250624T090000
DTEND;TZID=UTC:20250624T100000
DTSTAMP:20260425T125744
CREATED:20250414T145755Z
LAST-MODIFIED:20250414T145755Z
UID:987495019-1750755600-1750759200@gis.edu.gh
SUMMARY:Year 1 Swimming Splash
DESCRIPTION:
URL:https://gis.edu.gh/event/year-1-swimming-splash/
CATEGORIES:Infant School
END:VEVENT
BEGIN:VEVENT
DTSTART;TZID=UTC:20250624T120000
DTEND;TZID=UTC:20250624T140000
DTSTAMP:20260425T125744
CREATED:20250414T145826Z
LAST-MODIFIED:20250414T145826Z
UID:987495021-1750766400-1750773600@gis.edu.gh
SUMMARY:Year 2 Swimming Splash
DESCRIPTION:
URL:https://gis.edu.gh/event/year-2-swimming-splash/
CATEGORIES:Infant School
END:VEVENT
BEGIN:VEVENT
DTSTART;TZID=UTC:20250626T123000
DTEND;TZID=UTC:20250626T123000
DTSTAMP:20260425T125744
CREATED:20250414T145914Z
LAST-MODIFIED:20250414T145914Z
UID:987495023-1750941000-1750941000@gis.edu.gh
SUMMARY:Last day of term/ Heroes Day/The Big 6 Attributes  Awards
DESCRIPTION:
URL:https://gis.edu.gh/event/last-day-of-term-heroes-day-the-big-6-attributes-awards/
CATEGORIES:Infant School
END:VEVENT
END:VCALENDAR