BEGIN:VCALENDAR
VERSION:2.0
PRODID:-//GIS - ECPv6.15.15//NONSGML v1.0//EN
CALSCALE:GREGORIAN
METHOD:PUBLISH
X-ORIGINAL-URL:https://gis.edu.gh
X-WR-CALDESC:Events for GIS
REFRESH-INTERVAL;VALUE=DURATION:PT1H
X-Robots-Tag:noindex
X-PUBLISHED-TTL:PT1H
BEGIN:VTIMEZONE
TZID:UTC
BEGIN:STANDARD
TZOFFSETFROM:+0000
TZOFFSETTO:+0000
TZNAME:UTC
DTSTART:20240101T000000
END:STANDARD
END:VTIMEZONE
BEGIN:VEVENT
DTSTART;TZID=UTC:20250418T080000
DTEND;TZID=UTC:20250421T170000
DTSTAMP:20260425T024349
CREATED:20250411T102922Z
LAST-MODIFIED:20250411T102922Z
UID:987494972-1744963200-1745254800@gis.edu.gh
SUMMARY:Easter Break
DESCRIPTION:
URL:https://gis.edu.gh/event/easter-break/
CATEGORIES:Main Page
END:VEVENT
END:VCALENDAR