BEGIN:VCALENDAR
VERSION:2.0
PRODID:-//GIS - ECPv6.15.15//NONSGML v1.0//EN
CALSCALE:GREGORIAN
METHOD:PUBLISH
X-ORIGINAL-URL:https://gis.edu.gh
X-WR-CALDESC:Events for GIS
REFRESH-INTERVAL;VALUE=DURATION:PT1H
X-Robots-Tag:noindex
X-PUBLISHED-TTL:PT1H
BEGIN:VTIMEZONE
TZID:UTC
BEGIN:STANDARD
TZOFFSETFROM:+0000
TZOFFSETTO:+0000
TZNAME:UTC
DTSTART:20230101T000000
END:STANDARD
END:VTIMEZONE
BEGIN:VEVENT
DTSTART;TZID=UTC:20241029T080000
DTEND;TZID=UTC:20241029T170000
DTSTAMP:20260424T190948
CREATED:20240910T072343Z
LAST-MODIFIED:20240910T072343Z
UID:987494159-1730188800-1730221200@gis.edu.gh
SUMMARY:ATTRIBUTES EXPERIENTIAL DAY
DESCRIPTION:
URL:https://gis.edu.gh/event/attributes-experiential-day/
CATEGORIES:Infant School
END:VEVENT
BEGIN:VEVENT
DTSTART;TZID=UTC:20241029T153000
DTEND;TZID=UTC:20241029T170000
DTSTAMP:20260424T190948
CREATED:20240910T082649Z
LAST-MODIFIED:20240910T082852Z
UID:987494274-1730215800-1730221200@gis.edu.gh
SUMMARY:Lower Secondary Parent-Teacher Conference (Forms 1P & Q)
DESCRIPTION:
URL:https://gis.edu.gh/event/lower-secondary-parent-teacher-conference-forms-1p-q/
CATEGORIES:Lower Secondary School
END:VEVENT
END:VCALENDAR